BEGIN:VCALENDAR
VERSION:2.0
PRODID:-//Rorstrand Museum - ECPv6.15.18//NONSGML v1.0//EN
CALSCALE:GREGORIAN
METHOD:PUBLISH
X-WR-CALNAME:Rorstrand Museum
X-ORIGINAL-URL:https://rorstrand-museum.se
X-WR-CALDESC:Händelser för Rorstrand Museum
REFRESH-INTERVAL;VALUE=DURATION:PT1H
X-Robots-Tag:noindex
X-PUBLISHED-TTL:PT1H
BEGIN:VTIMEZONE
TZID:Europe/Stockholm
BEGIN:DAYLIGHT
TZOFFSETFROM:+0100
TZOFFSETTO:+0200
TZNAME:CEST
DTSTART:20230326T010000
END:DAYLIGHT
BEGIN:STANDARD
TZOFFSETFROM:+0200
TZOFFSETTO:+0100
TZNAME:CET
DTSTART:20231029T010000
END:STANDARD
BEGIN:DAYLIGHT
TZOFFSETFROM:+0100
TZOFFSETTO:+0200
TZNAME:CEST
DTSTART:20240331T010000
END:DAYLIGHT
BEGIN:STANDARD
TZOFFSETFROM:+0200
TZOFFSETTO:+0100
TZNAME:CET
DTSTART:20241027T010000
END:STANDARD
BEGIN:DAYLIGHT
TZOFFSETFROM:+0100
TZOFFSETTO:+0200
TZNAME:CEST
DTSTART:20250330T010000
END:DAYLIGHT
BEGIN:STANDARD
TZOFFSETFROM:+0200
TZOFFSETTO:+0100
TZNAME:CET
DTSTART:20251026T010000
END:STANDARD
END:VTIMEZONE
BEGIN:VEVENT
DTSTART;TZID=Europe/Stockholm:20240503T110000
DTEND;TZID=Europe/Stockholm:20240503T120000
DTSTAMP:20260424T194129
CREATED:20240322T120626Z
LAST-MODIFIED:20251119T171816Z
UID:3130-1714734000-1714737600@rorstrand-museum.se
SUMMARY:Slutseminarium AI-projekt
DESCRIPTION:Välkommen att delta på slutseminarium för det AI-projekt som Rörstrand Museum och RISE tillsammans arbetat med i två olika etapper sedan november 2021. Syftet med projektet har varit att ta fram en lösning för användare att kunna identifiera porslinsföremål från Rörstrand på ett enkelt och tillgängligt sätt med hjälp av AI. Läs mer om projektet här: AI för porslinsföremål | RISE \nNär: 3 maj\nTid: 11:00-12:00\nPlats: Hybrid – fysiskt på Rörstrand Museum & digitalt via länk \nVi bjuder på förmiddagskaffe och självklart finns det möjlighet att testa AI-tjänsten på plats efter föredraget. \nAnmäl dig via info@rorstrand-museum.se och meddela om du deltar fysiskt på plats eller digitalt via länk. Vänligen meddela även eventuella allergier om du deltar fysiskt. \nVarmt välkommen!
URL:https://rorstrand-museum.se/event/slutseminarium-ai-projekt/
LOCATION:Rörstrand Museum\, Marianne Westmans Plats 2\, Lidköping\, 53160\, Sverige
ATTACH;FMTTYPE=image/webp:https://rorstrand-museum.se/wp-content/uploads/2024/02/RISE_CfAI_240116_Rorstrand_2030x1000.jpg.webp
ORGANIZER;CN="R%C3%B6rstrand Museum":MAILTO:info@rorstrand-museum.se
END:VEVENT
END:VCALENDAR